BEGIN:VCALENDAR
VERSION:2.0
PRODID:-//YAIG - ECPv6.15.20//NONSGML v1.0//EN
CALSCALE:GREGORIAN
METHOD:PUBLISH
X-WR-CALNAME:YAIG
X-ORIGINAL-URL:https://aayaig.org
X-WR-CALDESC:Events for YAIG
REFRESH-INTERVAL;VALUE=DURATION:PT1H
X-Robots-Tag:noindex
X-PUBLISHED-TTL:PT1H
BEGIN:VTIMEZONE
TZID:America/New_York
BEGIN:DAYLIGHT
TZOFFSETFROM:-0500
TZOFFSETTO:-0400
TZNAME:EDT
DTSTART:20190310T070000
END:DAYLIGHT
BEGIN:STANDARD
TZOFFSETFROM:-0400
TZOFFSETTO:-0500
TZNAME:EST
DTSTART:20191103T060000
END:STANDARD
BEGIN:DAYLIGHT
TZOFFSETFROM:-0500
TZOFFSETTO:-0400
TZNAME:EDT
DTSTART:20200308T070000
END:DAYLIGHT
BEGIN:STANDARD
TZOFFSETFROM:-0400
TZOFFSETTO:-0500
TZNAME:EST
DTSTART:20201101T060000
END:STANDARD
BEGIN:DAYLIGHT
TZOFFSETFROM:-0500
TZOFFSETTO:-0400
TZNAME:EDT
DTSTART:20210314T070000
END:DAYLIGHT
BEGIN:STANDARD
TZOFFSETFROM:-0400
TZOFFSETTO:-0500
TZNAME:EST
DTSTART:20211107T060000
END:STANDARD
END:VTIMEZONE
BEGIN:VTIMEZONE
TZID:UTC
BEGIN:STANDARD
TZOFFSETFROM:+0000
TZOFFSETTO:+0000
TZNAME:UTC
DTSTART:20180101T000000
END:STANDARD
END:VTIMEZONE
BEGIN:VEVENT
DTSTART;TZID=America/New_York:20200905T114500
DTEND;TZID=America/New_York:20200906T180000
DTSTAMP:20260419T085131
CREATED:20200701T193528Z
LAST-MODIFIED:20200701T193528Z
UID:966-1599306300-1599415200@aayaig.org
SUMMARY:The (VIRTUAL) Unity & Service Conference - 5th Annual
DESCRIPTION:Are you Interested in hearing people share their experience with A.A.’s Traditions and Concepts?\n\nNavigating this unique time in our History/Present/Future with these 2 great Legacy’s.\n\nRegister now for the Virtual (Online) Conference September 5 – 6\, 2020 … Our Fifth year!\n\nWe would greatly appreciate your support if you could:\n1) Get the word out by forwarding this email to those you sponsor or others that might be interested.\n2) Include the flyer in newsletters\, post it on websites\, or announce it at meetings you attend. (The flyer can be downloaded from the website: UnityAndServiceConference.org)\n3) Come and attend the Conference yourself! It’s a ‘click’ away to register.\n\nThis is an A.A. activity of the Love and Service A.A. Group in Pleasant Hill\, CA\, and any contributions in excess of the prudent reserve will be distributed to A.A. service entities.\n\nAgain – thank you for your time\, support\, consideration\, and participation.\n\nSincerely\,\n\nThe Unity & Service Conference Committee\nRegister at: https://unityandserviceconference.org/register/
URL:https://aayaig.org/event/the-virtual-unity-service-conference-5th-annual/
END:VEVENT
BEGIN:VEVENT
DTSTART;TZID=America/New_York:20200821T190000
DTEND;TZID=America/New_York:20200822T213000
DTSTAMP:20260419T085131
CREATED:20200813T200346Z
LAST-MODIFIED:20200813T200346Z
UID:974-1598036400-1598131800@aayaig.org
SUMMARY:64th Ohio State Convention VIRTUAL
DESCRIPTION:64th Ohio State Convention \nTheme: The Gift of Services \nArea 54 Northeast Ohio is hosting your Virtual ACTION-PACKED \n  \nFor Zoom ID and passwords please see flyer \nClick Here to view Flyer
URL:https://aayaig.org/event/64th-ohio-state-convention-virtual/
LOCATION:Virtual
END:VEVENT
BEGIN:VEVENT
DTSTART;VALUE=DATE:20200702
DTEND;VALUE=DATE:20200706
DTSTAMP:20260419T085131
CREATED:20200315T192651Z
LAST-MODIFIED:20200413T153236Z
UID:886-1593648000-1593993599@aayaig.org
SUMMARY:CANCELLED: AA 2020 International Convention
DESCRIPTION:Click Here for Registration Information
URL:https://aayaig.org/event/aa-2020-international-convention/
LOCATION:Detroit\, Michigan\, Detroit\, MI\, United States
END:VEVENT
BEGIN:VEVENT
DTSTART;VALUE=DATE:20200625
DTEND;VALUE=DATE:20200629
DTSTAMP:20260419T085131
CREATED:20200315T192448Z
LAST-MODIFIED:20200315T192448Z
UID:883-1593043200-1593388799@aayaig.org
SUMMARY:38th ANNUAL New London Camp Out
DESCRIPTION:Click Here for Flyer
URL:https://aayaig.org/event/38th-annual-new-london-camp-out/
LOCATION:New London Recreational Park\, 2 Blake St\, New London\, OH\, 44851\, United States
END:VEVENT
BEGIN:VEVENT
DTSTART;VALUE=DATE:20200612
DTEND;VALUE=DATE:20200615
DTSTAMP:20260419T085131
CREATED:20200301T194712Z
LAST-MODIFIED:20200413T153253Z
UID:851-1591920000-1592179199@aayaig.org
SUMMARY:CANCELLED: Founder's Day - 85th Anniversary of Alcoholics Anonymous
DESCRIPTION:Click for Registration Information and Itinerary
URL:https://aayaig.org/event/founders-day-85th-anniversary-of-alcoholics-anonymous/
LOCATION:The University of Akron\, 302 E Buchtel Ave\, Akron\, OH\, 44325\, United States
END:VEVENT
BEGIN:VEVENT
DTSTART;VALUE=DATE:20200508
DTEND;VALUE=DATE:20200511
DTSTAMP:20260419T085131
CREATED:20200301T193842Z
LAST-MODIFIED:20200301T193842Z
UID:848-1588896000-1589155199@aayaig.org
SUMMARY:105th Punderson Park Conference
DESCRIPTION:105th PUNDERSON PARK CONFERENCE\nP.O. BOX 844\nChardon\, Ohio 44024\ninfo@.pundersonparkconference.com \nClick for Flyer and Registration Information \nREGISTER ONLINE STARTING March 1\, 2020 AT PUNDERSONPARKCONFERENCE.COM \nRegistration is required to attend all meetings & the dance
URL:https://aayaig.org/event/105th-punderson-park-conference/
LOCATION:Punderson Manor House\, 11755 Kinsman Road\, Newbury Township\, OH\, United States
END:VEVENT
BEGIN:VEVENT
DTSTART;VALUE=DATE:20200508
DTEND;VALUE=DATE:20200511
DTSTAMP:20260419T085131
CREATED:20200202T160125Z
LAST-MODIFIED:20200202T160247Z
UID:803-1588896000-1589155199@aayaig.org
SUMMARY:Northcoast Woodstock
DESCRIPTION:May 8\,9 and 10\, 2020 at this new location: \nWhere:\nDoubleTree by Hilton\n1100 Crocker Road\nWestlake\, Ohio 44145\n440 871-6000 \nRegister Online Now! On line registration will start 1/20/20. Registration Fee is $30 and is not refundable! $35 when you register after May 1st! \nSPECIAL: Room Rates $99 Per Night! Reserve by April 17th. Please book thru the hotel for the conference. \n  \nTo View Flyer Click Here
URL:https://aayaig.org/event/northcoast-woodstock/
END:VEVENT
BEGIN:VEVENT
DTSTART;TZID=America/New_York:20200417T183000
DTEND;TZID=America/New_York:20200417T203000
DTSTAMP:20260419T085131
CREATED:20200315T184825Z
LAST-MODIFIED:20200315T184825Z
UID:876-1587148200-1587155400@aayaig.org
SUMMARY:Tightrope 359 10th Anniversary Party
DESCRIPTION:All Are Welcome \nPlease Bring a Covered Dish and Join us for Food\, Fun and Fellowship! \nPot Luck an 6:30 \nSpeaker at 7:30
URL:https://aayaig.org/event/tightrope-359-10th-anniversary-party/
LOCATION:Unitarian Universalist Church of Youngstown\, 1105 Elm St\, Youngstown\, OH\, 44505\, United States
ORGANIZER;CN="":MAILTO:justbana@gmail.com
END:VEVENT
BEGIN:VEVENT
DTSTART;TZID=America/New_York:20200404T180000
DTEND;TZID=America/New_York:20200404T220000
DTSTAMP:20260419T085131
CREATED:20200220T024917Z
LAST-MODIFIED:20200316T154609Z
UID:831-1586023200-1586037600@aayaig.org
SUMMARY:CANCELLED - Swing Into Spring Dance & Banquet
DESCRIPTION:TWENTY NINTH ANNUAL\nSwing Into Spring Dance & Banquet \nsponsored by …\nSunday Morning Serenity Group \nWHEN: Saturday\, April 4\, 2020 \nWHERE: Ciminero’s Banquet Center\n123 N. Main St.\, Niles\, Ohio (Across from Sparkle Market) \nDoors open at 6:00 p.m.\nDinner at 6:30 p.m.\nBanquet Ends 11:00 p.m. \nLEAD SPEAKER … 8:00 p.m. Tom H. • Akron\, OH \nClick to View Flyer
URL:https://aayaig.org/event/swing-into-spring-dance-banquet/
END:VEVENT
BEGIN:VEVENT
DTSTART;TZID=UTC:20200404T170000
DTEND;TZID=UTC:20200404T170000
DTSTAMP:20260419T085131
CREATED:20200109T065855Z
LAST-MODIFIED:20200220T024407Z
UID:791-1586019600-1586019600@aayaig.org
SUMMARY:Getaway Weekend
DESCRIPTION:Click Here to view Flyer \n  \nGetaway Weekend \nFormerly Beaver Creek Getaway Weekend\nspring fling\nDINNER/DANCE \n5:00-6:00pm Fellowship \n6:00-7:00pm Spaghetti Dinner \n7:00pm AA/Alanon Speakers Eric & Patti B.
URL:https://aayaig.org/event/791/
LOCATION:Moose Lodge #122\, 127 East 3rd Street\, East Liverpool\, OH\, 43920\, United States
END:VEVENT
BEGIN:VEVENT
DTSTART;VALUE=DATE:20200403
DTEND;VALUE=DATE:20200406
DTSTAMP:20260419T085131
CREATED:20200220T024309Z
LAST-MODIFIED:20200220T024713Z
UID:825-1585872000-1586131199@aayaig.org
SUMMARY:International AA Men's Conference IAAMC
DESCRIPTION:Click Here to View Registration Flyer \nClick Here to View History Flyer \n\nThe 33RD International AA Men’s Conference\nApril 3 @ 8:00 am – April 5 @ 5:00 pm\n\n\n\nThe Double Tree by Hilton\n6200 Quarry Ln.\nIndependence\, Ohio 44131.\nDouble Occupancy Room $109.00 + tax\nFor reservations call 216-447-1300\nHotel Website: http://www.doubletree3.hilton.com \nFor more information:\nLangston H. (216) 536-2327\nWilliam C. (216) 832-6466\nHarris M. (216) 767-9845\nGregory J. (216) 346-0733 \n\n\n 
URL:https://aayaig.org/event/international-aa-mens-conference-iaamc/
END:VEVENT
BEGIN:VEVENT
DTSTART;VALUE=DATE:20200403
DTEND;VALUE=DATE:20200406
DTSTAMP:20260419T085131
CREATED:20200121T054342Z
LAST-MODIFIED:20200121T054348Z
UID:795-1585872000-1586131199@aayaig.org
SUMMARY:LIGHTHOUSE BIG BOOK WEEKEND
DESCRIPTION:LIGHTHOUSE BIG BOOK WEEKEND \n  \nApril 3-5\, 2020 \n   \nDOUBLETREE by HILTON CLEVELAND-WESTLAKE  \n1100 CROCKER RD.  \nWESTLAKE\, OH 44145  \nPHONE 440-871-6000 \n  \nBOB D.\nLas Vegas\, NV  \nJEFF V.\nFargo\, ND            \nDON L.\nBellingham\, WA \n  \nSee Flyer for further detail \nlighthouse flyer 2020
URL:https://aayaig.org/event/lighthouse-big-book-weekend/
LOCATION:Doubletree by Hilton Westlake\, 1100 Crocker Rd\, Westlake\, OH\, 44145\, United States
END:VEVENT
BEGIN:VEVENT
DTSTART;TZID=America/New_York:20200329T090000
DTEND;TZID=America/New_York:20200329T120000
DTSTAMP:20260419T085131
CREATED:20200301T193205Z
LAST-MODIFIED:20200301T193220Z
UID:840-1585472400-1585483200@aayaig.org
SUMMARY:Freeway Breakfast
DESCRIPTION:Click to View Flyer \nLarry T.\nSeal Beach\, CA.
URL:https://aayaig.org/event/freeway-breakfast-3/
LOCATION:La Vera’s Party Center\, 32200 Chardon Road\, Willoughby Hills\, Ohio\, 44094
END:VEVENT
BEGIN:VEVENT
DTSTART;VALUE=DATE:20200327
DTEND;VALUE=DATE:20200330
DTSTAMP:20260419T085131
CREATED:20191224T204452Z
LAST-MODIFIED:20200316T154534Z
UID:781-1585267200-1585526399@aayaig.org
SUMMARY:CANCELLED - AREA 54 MINI-CONFERENCE
DESCRIPTION:45th ANNUAL\nAREA 54 NORTHEAST OHIO GENERAL SERVICE\nMINI-CONFERENCE \nMarch 27 – 29\, 2020\n“2020 A Clear Vision for You” \nLOCATION\nDoubletree by Hilton Westlake\n1100 Crocker Rd\nWestlake\, Ohio 44145\nTel: 440-871-6000 \nReserve your room by March 2\, 2020 \nRef: Northeast Ohio Mini-Conference \nAll MEMBERS of A.A. are encouraged to attend this conference! \nView flyer for full schedule\, directions and registration. \nClick Here to View Flyer
URL:https://aayaig.org/event/area-54-mini-conference/
LOCATION:Doubletree by Hilton Westlake\, 1100 Crocker Rd\, Westlake\, OH\, 44145\, United States
END:VEVENT
BEGIN:VEVENT
DTSTART;TZID=America/New_York:20200323T180000
DTEND;TZID=America/New_York:20200323T210000
DTSTAMP:20260419T085131
CREATED:20200202T160344Z
LAST-MODIFIED:20200316T154639Z
UID:805-1584986400-1584997200@aayaig.org
SUMMARY:CANCELLED - Kinsman Monday Night 13th Anniversary
DESCRIPTION:Kinsman Monday Night\nSmall Town Sobriety\nMarch 23- 13th Anniversary\nOpen 6—dinner 7—lead 8\nCovered dishes welcome
URL:https://aayaig.org/event/kinsman-monday-night-13th-anniversary/
END:VEVENT
BEGIN:VEVENT
DTSTART;TZID=America/New_York:20200314T170000
DTEND;TZID=America/New_York:20200314T230000
DTSTAMP:20260419T085131
CREATED:20200220T025213Z
LAST-MODIFIED:20200312T222633Z
UID:834-1584205200-1584226800@aayaig.org
SUMMARY:CANCELLED St. Patrick's Day Banquet
DESCRIPTION:Speaker – DON L. from Bellingham\, WA
URL:https://aayaig.org/event/st-patricks-day-banquet/
LOCATION:Mahoning Country Club\, 710 E. LIBERTY ST.\, Youngstown\, OH\, 44420\, United States
END:VEVENT
BEGIN:VEVENT
DTSTART;TZID=America/New_York:20200223T090000
DTEND;TZID=America/New_York:20200223T120000
DTSTAMP:20260419T085131
CREATED:20200220T023903Z
LAST-MODIFIED:20200220T023912Z
UID:818-1582448400-1582459200@aayaig.org
SUMMARY:Freeway Breakfast
DESCRIPTION:SPEAKER \nJane P. \nCleveland\, OH.\nFebruary 23\, 2020\nhttp://freewaybreakfast.com/ \n  \nBreakfast tickets are $12 for a deluxe breakfast.\nThe doors open at 9 A.M. for coffee and fellowship.\nBreakfast begins at 10 A.M. and it’s delicious.\nSpeakers begin at 11 A.M. and they’re free. \n  \nLocated at: La Vera Party Center\n32200 Chardon Rd.\nWilloughby Hills\, Ohio 44094 \n  \nfreewaybreakfast Flyer
URL:https://aayaig.org/event/freeway-breakfast-2/
LOCATION:La Vera’s Party Center\, 32200 Chardon Road\, Willoughby Hills\, Ohio\, 44094
END:VEVENT
BEGIN:VEVENT
DTSTART;TZID=UTC:20200216T140000
DTEND;TZID=UTC:20200216T140000
DTSTAMP:20260419T085131
CREATED:20191224T203956Z
LAST-MODIFIED:20191224T204013Z
UID:775-1581861600-1581861600@aayaig.org
SUMMARY:Area 54 GSR School Workshop
DESCRIPTION:Click Here to View Flyer \nGeneral Service Representative\nMay be the most important job in AA \nSUNDAY\, FEBRUARY 16th\, 2020 at 2:00 P.M. \nAt the 12 Step Recovery Club\,\n1480 Pearl Rd.\nBrunswick OH 44212 \nThe club is in the Brunswick Plaza on U.S. Rt. 42\,\n1/4 mile south of State Route 303\nEntrance is in the rear\, lower level next to the bowling alley. \nIf possible\, please bring your Service Manual and “The AA Group” Pamphlet\, a highlighter and a pen! (Additional Materials will be supplied) \n*** This is a pot-luck event … A covered dish would be appreciated! *** \n“The strength of our whole A.A. service structure starts with the group and with the general service representative (G.S.R.) the group elects. I cannot emphasize too strongly the GSR’s importance.” -Bill W.\, on General Service and the GSR.
URL:https://aayaig.org/event/area-54-gsr-school-workshop/
LOCATION:12 Step Recovery Club\, 1480 Pearl Rd.\, Brunswick\, OH\, 44212\, United States
END:VEVENT
BEGIN:VEVENT
DTSTART;TZID=UTC:20200215T170000
DTEND;TZID=UTC:20200215T230000
DTSTAMP:20260419T085131
CREATED:20191102T223239Z
LAST-MODIFIED:20191103T020740Z
UID:618-1581786000-1581807600@aayaig.org
SUMMARY:YAIG Pasta Dinner
DESCRIPTION:YAIG_Pasta_Dinner_2020 \n***NO tickets at the door*** \nFor tickets call YAIG 330-270-3000 or contact any Intergroup Representative. \nDoors Open 5:00pm \nDinner 6:30pm \nLead 8:00 pm \nSpeaker Mary R from Akron\, Ohio \n 
URL:https://aayaig.org/event/yaig-pasta-dinner/
LOCATION:Maronite Center\, 1555 S. Meridian Rd.\, Youngstown\, OH\, 44511\, United States
END:VEVENT
BEGIN:VEVENT
DTSTART;TZID=UTC:20200207T170000
DTEND;TZID=UTC:20200208T170000
DTSTAMP:20260419T085131
CREATED:20191224T203155Z
LAST-MODIFIED:20191224T203155Z
UID:770-1581094800-1581181200@aayaig.org
SUMMARY:Emotional Sobriety 2020
DESCRIPTION:Click Here to View Flyer \nFEBRUARY 7th & 8th\, 2020\nOur Lady of the Lakes\nSt. Catherine’s Family Center\n1254 Grandview Road\nLake Milton\, Ohio\nLocated just 32 miles from Dr. Bob’s House & other Akron Historical Sites \nLarry S. Marietta\, Ga.\,. and Bill B. Augusta\, Ga. Present:\nThe Big -Book Comes Alive\nStudy the first 164 pages in the tradition of Joe & Charlie\nFRIDAY: Doors Open at 5:00 p.tn. Workshop begins at 6:00\, ends at 9:00 p.m. No Open meeting-Registration Required \nSATURDAY: Doors open at 8:00 a.in. -Workshop begins at 9:00 a.m. \nLunch is provided on site\nWorkshop concludes at 5:00 p.m.\nBRING YOUR BIG BOOK!! \no 5 Scholarships available\, Sponsor must attend. Call for details.\no Need motel/hotel locations call for infonnation.\no Signs are posted to assist in finding location.
URL:https://aayaig.org/event/emotional-sobriety-2020/
LOCATION:St. Catherine’s Family Center\, 1254 Grandview Road\, Lake Milton\, OH\, 44429\, United States
END:VEVENT
BEGIN:VEVENT
DTSTART;TZID=UTC:20200126T090000
DTEND;TZID=UTC:20200126T120000
DTSTAMP:20260419T085131
CREATED:20191210T050028Z
LAST-MODIFIED:20191210T051544Z
UID:755-1580029200-1580040000@aayaig.org
SUMMARY:Freeway Breakfast
DESCRIPTION:FLYER \nFreeway Breakfast\nJohn H.\nSanford\, FL.\nJanuary 26\, 2020\nwww.freewaybreakfast.com\nLocation:\nLa Vera’s Party Center\n32200 Chardon Road\nWilloughby Hills\, Ohio 44094\nDoors Open 9 a.m.\nBreakfast 10 a.m.\nSpeaker 11 a.m.\nBreakfast $12.00
URL:https://aayaig.org/event/freeway-breakfast/
LOCATION:La Vera’s Party Center\, 32200 Chardon Road\, Willoughby Hills\, Ohio\, 44094
END:VEVENT
BEGIN:VEVENT
DTSTART;TZID=UTC:20200125T100000
DTEND;TZID=UTC:20200125T160000
DTSTAMP:20260419T085131
CREATED:20191102T224554Z
LAST-MODIFIED:20191102T224627Z
UID:625-1579946400-1579968000@aayaig.org
SUMMARY:A DAY OF SHARING
DESCRIPTION:A Day of Sharing \nA Day of Sharing IV\nwith Kent C. Sandusky\, OH\n12 Step Workshop\n50/50 – Chinese Auction\nSaturday\, January 25\, 2020\nSalem Masonic Temple \n788 E. State St. \nSalem\, OH 44460 (Across street from old location)\n10:00AM to 4:00PM Contacts: Pasta Lunch Provided Eric B. 330-301-4765 50/50\, Chinese Auction Dolly A. 440-429-0369 Donations: $12.00 – On Site $15.00 If Available Doors open at 9:00AM\nProceeds benefit North Coast Woodstock
URL:https://aayaig.org/event/a-day-of-sharing/
END:VEVENT
BEGIN:VEVENT
DTSTART;VALUE=DATE:20200117
DTEND;VALUE=DATE:20200120
DTSTAMP:20260419T085131
CREATED:20191103T175404Z
LAST-MODIFIED:20191103T175541Z
UID:670-1579219200-1579478399@aayaig.org
SUMMARY:Youngstown's 12 Step Weekend
DESCRIPTION:WE INVITE YOU TO SEEK A SPIRITUAL AWAKENING\nWhen: January 17\, 18\, and 19\, 2020\nWhere: Best Western Park Hotel\n136 North Park Avenue\nWarren\, OH 44481 \nAll Men and Women who belong to AA and are devoted to attend a working weekend of growth through the 12-Steps.\nEach step is presented by a speaker and break out group sessions follow each step. There is opportunity on Saturday morning to \ndo your 5th step. And\, on Saturday evening \, there is a scheduled lead meeting following dinner. \nReservations will be accepted after November 1\, 2019.\nChecks for the full amount must accompany the reservation form. \nReservation Form
URL:https://aayaig.org/event/youngstowns-12-step-weekend/
LOCATION:Best Western Park Hotel\, 136 North Park Avenue\, Warren\, Ohio\, 44481
END:VEVENT
BEGIN:VEVENT
DTSTART;TZID=UTC:20191124T090000
DTEND;TZID=UTC:20191124T120000
DTSTAMP:20260419T085131
CREATED:20191103T022256Z
LAST-MODIFIED:20191103T022256Z
UID:657-1574586000-1574596800@aayaig.org
SUMMARY:Freeway Breakfast Long Timers Panel
DESCRIPTION:Freeway_Breakfast_Flyer \nLa Vera’s Party Center\n32200 Chardon Road\nWilloughby Hills\, Ohio 44094 \nDoors Open 9 a.m.\nBreakfast 10 a.m.\nSpeaker 11 a.m.\nBreakfast $12.00
URL:https://aayaig.org/event/freeway-breakfast-long-timers-panel/
LOCATION:La Vera’s Party Center\, 32200 Chardon Road\, Willoughby Hills\, Ohio\, 44094
END:VEVENT
BEGIN:VEVENT
DTSTART;TZID=UTC:20191121T113000
DTEND;TZID=UTC:20191121T170000
DTSTAMP:20260419T085131
CREATED:20191121T071832Z
LAST-MODIFIED:20191121T071850Z
UID:696-1574335800-1574355600@aayaig.org
SUMMARY:Winter Solstice Party
DESCRIPTION:Solstice party \n  \nPrimary Purpose Group invites you to our Winter Solstice Party. \nAll are welcome ! Covered Dishes Appreciated!
URL:https://aayaig.org/event/winter-solstice-party/
LOCATION:Christ Episcopal Church\, 2627 Atlantic St NE\, Warren\, OH\, 44483\, United States
END:VEVENT
BEGIN:VEVENT
DTSTART;TZID=UTC:20191117T130000
DTEND;TZID=UTC:20191117T130000
DTSTAMP:20260419T085131
CREATED:20191103T021222Z
LAST-MODIFIED:20191103T021222Z
UID:645-1573995600-1573995600@aayaig.org
SUMMARY:AREA 54’s Gratitude Sunday
DESCRIPTION:Multi District 7\, 8 & 48 are your hosts for\nAREA 54’s Gratitude Sunday \nNovember 17th\, 2019\nat 1:00 pm \nAfter Dinner Gratitude & Service Panel \nAut Mori Grotto Banquet Hall\n563 N. Belle Vista Ave\nYoungstown Ohio \nCovered dishes are greatly appreciated \nGratitude_Sunday
URL:https://aayaig.org/event/area-54s-gratitude-sunday/
LOCATION:Aut Mori Grotto Banquet Hall 563 N. Belle Vista Ave Youngstown Ohio 44509\, 563 N. Belle Vista Ave\, Youngstown\, OH\, 44509
END:VEVENT
BEGIN:VEVENT
DTSTART;TZID=UTC:20191116T170000
DTEND;TZID=UTC:20191116T220000
DTSTAMP:20260419T085131
CREATED:20190915T072211Z
LAST-MODIFIED:20190915T072211Z
UID:87-1573923600-1573941600@aayaig.org
SUMMARY:YAIG GRATITUDE BANQUET
DESCRIPTION:Doors Open at 5:00 PM \nDinner: 6:30 PM \nSpeaker: 8:00 PM \nFRANK A. Sacramento\, CA
URL:https://aayaig.org/event/yaig-gratitude-banquet/
LOCATION:Mahoning Country Club\, 710 E. LIBERTY ST.\, Youngstown\, OH\, 44420\, United States
END:VEVENT
BEGIN:VEVENT
DTSTART;TZID=UTC:20191115T180000
DTEND;TZID=UTC:20191115T180000
DTSTAMP:20260419T085131
CREATED:20191103T175746Z
LAST-MODIFIED:20191103T175746Z
UID:674-1573840800-1573840800@aayaig.org
SUMMARY:Blacktown AA Candlelight Gratitude Meeting
DESCRIPTION:BlacktownAA_Candllelight_Gratitude_Meeting
URL:https://aayaig.org/event/blacktown-aa-candlelight-gratitude-meeting/
LOCATION:Balm United Methodist Church\, 1536 Butler Pike\, Mercer\, PA\, 16137
END:VEVENT
END:VCALENDAR